BEGIN:VCALENDAR
VERSION:2.0
PRODID:-//Kajak Club Gars - ECPv6.0.12//NONSGML v1.0//EN
CALSCALE:GREGORIAN
METHOD:PUBLISH
X-ORIGINAL-URL:https://kc-gars.at
X-WR-CALDESC:Veranstaltungen für Kajak Club Gars
REFRESH-INTERVAL;VALUE=DURATION:PT1H
X-Robots-Tag:noindex
X-PUBLISHED-TTL:PT1H
BEGIN:VTIMEZONE
TZID:Europe/Berlin
BEGIN:DAYLIGHT
TZOFFSETFROM:+0100
TZOFFSETTO:+0200
TZNAME:CEST
DTSTART:20260329T010000
END:DAYLIGHT
BEGIN:STANDARD
TZOFFSETFROM:+0200
TZOFFSETTO:+0100
TZNAME:CET
DTSTART:20261025T010000
END:STANDARD
END:VTIMEZONE
BEGIN:VEVENT
DTSTART;TZID=Europe/Berlin:20260709T180000
DTEND;TZID=Europe/Berlin:20260709T200000
DTSTAMP:20260420T193153
CREATED:20260227T195808Z
LAST-MODIFIED:20260227T195808Z
UID:10068-1783620000-1783627200@kc-gars.at
SUMMARY:Schnupperpaddeln Gars
DESCRIPTION:
URL:https://kc-gars.at/event/schnupperpaddeln-gars-4/
END:VEVENT
END:VCALENDAR